BEGIN:VCALENDAR
VERSION:2.0
PRODID:-//wp-events-plugin.com//7.2.3.1//EN
TZID:America/Chicago
X-WR-TIMEZONE:America/Chicago
BEGIN:VEVENT
UID:59@pcienergysolutions.com
DTSTART;TZID=America/Chicago:20230214T084500
DTEND;TZID=America/Chicago:20230215T170000
DTSTAMP:20230202T034750Z
URL:https://www.pcienergysolutions.com/events/pci-euci-workshop-maximizing
 -benefits-in-southeast-energy-exchange-market-february-2023/
SUMMARY:Workshop: "Southeast Energy Exchange Market (SEEM) - Strategies for
  Maximizing Benefits"
DESCRIPTION:Twenty entities in parts of 11 Southeastern states are working 
 together to form the new Southeast Energy Exchange Market (SEEM) that will
  provide an automated clearing engine to match bids and offers in 15-minut
 e intervals. SEEM will increase the volume of real-time energy trades by u
 sing a zero-cost\, non-firm transmission product while meeting all transmi
 ssion constraints.\n\nSEEM will re-use the current infrastructure for bila
 teral transactions\, namely enabling bilateral agreements\, e-Tag schedule
 s\, and point-to-point transmission reservations. Planned for go-live late
  in 2022\, SEEM is projected to generate annual benefits ranging from $40 
 to $100 million per year.\n\nThe purpose of this online EUCI course is to 
 review:\n\n 	The performance of the new SEEM market\n 	The trading workflo
 w for SEEM market participants\, transmission service providers\, and admi
 nistrators\n 	Strategies to maximize SEEM market benefits.\n\nThe workshop
  will also help you:\n\n 	"Connect the dots" between front-office trade cr
 eation and submission\, 15-minute cleared trades/prices\, P&amp\;L metrics
 \, as well as settlement results.\n 	Provide case studies to illustrate ho
 w market participants can:\n\n 	Automatically create bids and offers using
  resource plans and\;\n 	Compute actual P&amp\;L for cleared SEEM trades u
 sing 15-minute meter data\n\n\n
ATTACH;FMTTYPE=image/jpeg:https://www.pcienergysolutions.com/wp-content/up
 loads/2022/10/solar-2.jpg
CATEGORIES:Market Education Workshops
END:VEVENT
BEGIN:VTIMEZONE
TZID:America/Chicago
X-LIC-LOCATION:America/Chicago
BEGIN:STANDARD
DTSTART:20221106T010000
TZOFFSETFROM:-0500
TZOFFSETTO:-0600
TZNAME:CST
END:STANDARD
END:VTIMEZONE
END:VCALENDAR