BEGIN:VCALENDAR
VERSION:2.0
PRODID:-//wp-events-plugin.com//7.2.3.1//EN
TZID:America/Chicago
X-WR-TIMEZONE:America/Chicago
BEGIN:VEVENT
UID:100@pcienergysolutions.com
DTSTART;TZID=America/Chicago:20230228T130000
DTEND;TZID=America/Chicago:20230228T140000
DTSTAMP:20230919T155121Z
URL:https://www.pcienergysolutions.com/events/pci-webinar-can-hydrogen-hel
 p-decarbonize-your-turbine-fleet-feb-2023/
SUMMARY:Webinar: "Can Hydrogen Help Decarbonize Your Turbine Fleet?"
DESCRIPTION:Background\nUtilities have made significant capital investments
  in equipment and firm gas delivery for gas turbines\, replacing coal as t
 he prevalent load-following resource. Future-proofing investment is paramo
 unt\, and hydrogen blending is one of a few decarbonization alternatives t
 hat don’t leave stranded assets. It is a very complex problem that PCI E
 nergy Solutions can help you solve.\n\nWebinar Focus\nDuring this session\
 , PCI’s Techno-Economic Analysis &amp\; Modeling (TEAM) experts will be 
 joined by Mr. Jonathan Alvis of Entergy Corporation’s Power Development 
 Group to answer crucial questions\, including:\n\n 	What’s the practical
 ity (and what are the benefits) of blending hydrogen at various ratios?\n 
 	Based on your turbine portfolio\, how much hydrogen is needed various ble
 nd ratios?\n 	How would you produce and store the hydrogen required for yo
 ur turbine fleet?\n 	Is “green” hydrogen optimal\, or should you consi
 der other hydrogen production sources?\n
ATTACH;FMTTYPE=image/jpeg:https://www.pcienergysolutions.com/wp-content/up
 loads/2023/02/hydrogen_shutterstock_1784718089.jpg
CATEGORIES:Webinars
END:VEVENT
BEGIN:VTIMEZONE
TZID:America/Chicago
X-LIC-LOCATION:America/Chicago
BEGIN:STANDARD
DTSTART:20221106T010000
TZOFFSETFROM:-0500
TZOFFSETTO:-0600
TZNAME:CST
END:STANDARD
END:VTIMEZONE
END:VCALENDAR