BEGIN:VCALENDAR
VERSION:2.0
PRODID:-//wp-events-plugin.com//7.2.3.1//EN
TZID:America/Chicago
X-WR-TIMEZONE:America/Chicago
BEGIN:VEVENT
UID:11@pcienergysolutions.com
DTSTART;TZID=America/Chicago:20220728T000000
DTEND;TZID=America/Chicago:20220728T000000
DTSTAMP:20221024T182014Z
URL:https://www.pcienergysolutions.com/events/pci-webinar-hydrogen-asset-m
 anagement-july-28-2022/
SUMMARY:Webinar: "The Path Forward for Green Hydrogen Production”
DESCRIPTION:This is the second PCI webinar focused on the Hydrogen Economy 
 and builds on the basic concepts from PCI's May 26th session\, “Hydrogen
  Power: Opportunities &amp\; Challenges.”\n\nDuring this July 28 webinar
 \, PCI experts will overview various hydrogen use cases for an electric ut
 ility. They will offer specific insights into how utilities can economical
 ly produce and use hydrogen for wholesale power generation using renewable
  power electrolysis\, fuel cells\, and combined-cycle gas turbines with hy
 drogen blending. Topic highlights include:\n\n 	Reviewing the pros and con
 s of introducing hydrogen into existing infrastructure\, including efficie
 ncies\, compression\, and necessary modifications\n 	How to most effective
 ly model and optimize hydrogen assets as part of a power generation portfo
 lio using real-world scenarios\n 	Assessing impacts on carbon emissions\n
CATEGORIES:Webinars
END:VEVENT
BEGIN:VTIMEZONE
TZID:America/Chicago
X-LIC-LOCATION:America/Chicago
BEGIN:DAYLIGHT
DTSTART:20220313T030000
TZOFFSETFROM:-0600
TZOFFSETTO:-0500
TZNAME:CDT
END:DAYLIGHT
END:VTIMEZONE
END:VCALENDAR